BEGIN:VCALENDAR
VERSION:2.0
PRODID:-//United Motorcoach Association - ECPv6.6.4.2//NONSGML v1.0//EN
CALSCALE:GREGORIAN
METHOD:PUBLISH
X-WR-CALNAME:United Motorcoach Association
X-ORIGINAL-URL:https://uma.org
X-WR-CALDESC:Events for United Motorcoach Association
REFRESH-INTERVAL;VALUE=DURATION:PT1H
X-Robots-Tag:noindex
X-PUBLISHED-TTL:PT1H
BEGIN:VTIMEZONE
TZID:UTC
BEGIN:STANDARD
TZOFFSETFROM:+0000
TZOFFSETTO:+0000
TZNAME:UTC
DTSTART:20230101T000000
END:STANDARD
END:VTIMEZONE
BEGIN:VEVENT
DTSTART;VALUE=DATE:20230228
DTEND;VALUE=DATE:20230302
DTSTAMP:20260425T082030
CREATED:20221121T200108Z
LAST-MODIFIED:20221121T200114Z
UID:249362-1677542400-1677715199@uma.org
SUMMARY:2023 Wisconsin Motorcoach Convention and Trade Show
DESCRIPTION:
URL:https://uma.org/event/2023-wisconsin-motorcoach-convention-and-trade-show/
LOCATION:Milwaukee\, WI
END:VEVENT
END:VCALENDAR