BEGIN:VCALENDAR
VERSION:2.0
PRODID:-//United Motorcoach Association - ECPv6.6.4.2//NONSGML v1.0//EN
CALSCALE:GREGORIAN
METHOD:PUBLISH
X-ORIGINAL-URL:https://uma.org
X-WR-CALDESC:Events for United Motorcoach Association
REFRESH-INTERVAL;VALUE=DURATION:PT1H
X-Robots-Tag:noindex
X-PUBLISHED-TTL:PT1H
BEGIN:VTIMEZONE
TZID:UTC
BEGIN:STANDARD
TZOFFSETFROM:+0000
TZOFFSETTO:+0000
TZNAME:UTC
DTSTART:20230101T000000
END:STANDARD
END:VTIMEZONE
BEGIN:VEVENT
DTSTART;VALUE=DATE:20230305
DTEND;VALUE=DATE:20230309
DTSTAMP:20260419T201142
CREATED:20230119T203756Z
LAST-MODIFIED:20230119T203756Z
UID:249458-1677974400-1678319999@uma.org
SUMMARY:CD/NLA Show
DESCRIPTION:
URL:https://uma.org/event/cd-nla-show/
LOCATION:Las Vegas\, NV
END:VEVENT
END:VCALENDAR