BEGIN:VCALENDAR
VERSION:2.0
PRODID:-//United Motorcoach Association - ECPv6.6.4.2//NONSGML v1.0//EN
CALSCALE:GREGORIAN
METHOD:PUBLISH
X-WR-CALNAME:United Motorcoach Association
X-ORIGINAL-URL:https://uma.org
X-WR-CALDESC:Events for United Motorcoach Association
REFRESH-INTERVAL;VALUE=DURATION:PT1H
X-Robots-Tag:noindex
X-PUBLISHED-TTL:PT1H
BEGIN:VTIMEZONE
TZID:UTC
BEGIN:STANDARD
TZOFFSETFROM:+0000
TZOFFSETTO:+0000
TZNAME:UTC
DTSTART:20240101T000000
END:STANDARD
END:VTIMEZONE
BEGIN:VEVENT
DTSTART;VALUE=DATE:20240319
DTEND;VALUE=DATE:20240321
DTSTAMP:20260422T052544
CREATED:20240122T194746Z
LAST-MODIFIED:20240122T194746Z
UID:249897-1710806400-1710979199@uma.org
SUMMARY:2024 Bus and Motorcoach Industry Legislative Fly-In
DESCRIPTION:
URL:https://uma.org/event/2024-bus-and-motorcoach-industry-legislative-fly-in/
LOCATION:Washington D.C.
END:VEVENT
BEGIN:VEVENT
DTSTART;VALUE=DATE:20240325
DTEND;VALUE=DATE:20240327
DTSTAMP:20260422T052544
CREATED:20230406T170513Z
LAST-MODIFIED:20230406T170513Z
UID:249563-1711324800-1711497599@uma.org
SUMMARY:PBA Marketplace
DESCRIPTION:
URL:https://uma.org/event/pba-marketplace-2/
LOCATION:State College\, PA\, 177 Champion Drive\, State College\, PA\, 16803\, United States
END:VEVENT
END:VCALENDAR